BEGIN:VCALENDAR
VERSION:2.0
PRODID:-//eventon.com NONSGML v1.0//EN
CALSCALE:GREGORIAN
METHOD:PUBLISH
BEGIN:VEVENT
UID:69e5f06e29ba7
DTSTAMP:20260420T092254Z
DTSTART:20260315
DTEND:20260316
LOCATION:
SUMMARY:Malarkey Brothers & Sister
DESCRIPTION:Malarkey Brothers & Sister\nhttps://jerseygina.com/events/malar
 key-brothers-sister-2/
URL:https://jerseygina.com/events/malarkey-brothers-sister-2/
END:VEVENT
END:VCALENDAR