BEGIN:VCALENDAR
VERSION:2.0
PRODID:-//eventon.com NONSGML v1.0//EN
CALSCALE:GREGORIAN
METHOD:PUBLISH
BEGIN:VEVENT
UID:69e5ebdc219ca
DTSTAMP:20260420T090324Z
DTSTART:20260612
DTEND:20260613
LOCATION:
SUMMARY:Private
DESCRIPTION:Private\nhttps://jerseygina.com/events/private-15/
URL:https://jerseygina.com/events/private-15/
END:VEVENT
END:VCALENDAR