BEGIN:VCALENDAR
VERSION:2.0
PRODID:-//eventon.com NONSGML v1.0//EN
CALSCALE:GREGORIAN
METHOD:PUBLISH
BEGIN:VEVENT
UID:69e61ebb70354
DTSTAMP:20260420T124027Z
DTSTART:20260314
DTEND:20260315
LOCATION:
SUMMARY:Malarkey Brothers & Sister
DESCRIPTION:Malarkey Brothers & Sister\nhttps://jerseygina.com/events/malar
 key-brothers-sister-4/
URL:https://jerseygina.com/events/malarkey-brothers-sister-4/
END:VEVENT
END:VCALENDAR