BEGIN:VCALENDAR
VERSION:2.0
PRODID:-//eventon.com NONSGML v1.0//EN
CALSCALE:GREGORIAN
METHOD:PUBLISH
BEGIN:VEVENT
UID:69e5f08d6cf44
DTSTAMP:20260420T092325Z
DTSTART:20260618
DTEND:20260619
LOCATION:
SUMMARY:Triple Rail Turn
DESCRIPTION:Triple Rail Turn\nhttps://jerseygina.com/events/triple-rail-tur
 n-14/
URL:https://jerseygina.com/events/triple-rail-turn-14/
END:VEVENT
END:VCALENDAR